BEGIN:VCALENDAR
VERSION:2.0
PRODID:-//norwood-payneham-st-peters//NONSGML events.npsp.sa.gov.au//EN
METHOD:PUBLISH
CALSCALE:GREGORIAN
BEGIN:VEVENT
UID:event3422@events.npsp.sa.gov.au
DTSTART:20260430T143000Z
DTEND:20260528T143000Z
SUMMARY:1 on 1 Tech Help: May
STATUS:CONFIRMED
SEQUENCE:0
TRANSP:OPAQUE
DTSTAMP:20260415T063351Z
LOCATION:St Peters Library
URL:https://lookeast.npsp.sa.gov.au/events/3422_1_on_1_tech_help_may
END:VEVENT
END:VCALENDAR
